BEGIN:VCALENDAR
PRODID:-//AT Content Types//AT Event//EN
VERSION:2.0
METHOD:PUBLISH
BEGIN:VEVENT
DTSTAMP:20260421T090518Z
CREATED:20161101T230902Z
UID:ATEvent-ddf9f36c0d1e432d90b495e08ee0c953
LAST-MODIFIED:20161103T201901Z
SUMMARY:Célébration de Noël.
DTSTART:20161210T090000Z
DTEND:20161210T093000Z
LOCATION:Ecole
CLASS:PUBLIC
END:VEVENT
END:VCALENDAR
