BEGIN:VCALENDAR
PRODID:-//AT Content Types//AT Event//EN
VERSION:1.0
BEGIN:VEVENT
DTSTART:20170510T131000Z
DTEND:20170510T131000Z
DCREATED:20170109T141455Z
UID:ATEvent-0b197414f41c4c3c9691b7555794e5d3
SEQUENCE:0
LAST-MODIFIED:20170109T144716Z
SUMMARY:ATELIERS du MIDI
DESCRIPTION:Spectacle de l'atelier théâtre CM1-CM2
PRIORITY:3
TRANSP:0
END:VEVENT
END:VCALENDAR
